BEGIN:VCALENDAR
VERSION:2.0
PRODID:-//Lighthouse Soccer Club - ECPv6.15.20//NONSGML v1.0//EN
CALSCALE:GREGORIAN
METHOD:PUBLISH
X-ORIGINAL-URL:https://lighthousesoccerclub.org
X-WR-CALDESC:Events for Lighthouse Soccer Club
REFRESH-INTERVAL;VALUE=DURATION:PT1H
X-Robots-Tag:noindex
X-PUBLISHED-TTL:PT1H
BEGIN:VTIMEZONE
TZID:America/New_York
BEGIN:DAYLIGHT
TZOFFSETFROM:-0500
TZOFFSETTO:-0400
TZNAME:EDT
DTSTART:20170312T070000
END:DAYLIGHT
BEGIN:STANDARD
TZOFFSETFROM:-0400
TZOFFSETTO:-0500
TZNAME:EST
DTSTART:20171105T060000
END:STANDARD
BEGIN:DAYLIGHT
TZOFFSETFROM:-0500
TZOFFSETTO:-0400
TZNAME:EDT
DTSTART:20180311T070000
END:DAYLIGHT
BEGIN:STANDARD
TZOFFSETFROM:-0400
TZOFFSETTO:-0500
TZNAME:EST
DTSTART:20181104T060000
END:STANDARD
BEGIN:DAYLIGHT
TZOFFSETFROM:-0500
TZOFFSETTO:-0400
TZNAME:EDT
DTSTART:20190310T070000
END:DAYLIGHT
BEGIN:STANDARD
TZOFFSETFROM:-0400
TZOFFSETTO:-0500
TZNAME:EST
DTSTART:20191103T060000
END:STANDARD
END:VTIMEZONE
BEGIN:VEVENT
DTSTART;TZID=America/New_York:20180617T143000
DTEND;TZID=America/New_York:20180617T143000
DTSTAMP:20260424T152801
CREATED:20180329T215446Z
LAST-MODIFIED:20180329T215446Z
UID:2209-1529245800-1529245800@lighthousesoccerclub.org
SUMMARY:Majors-Men-United-McWilliams
DESCRIPTION:
URL:https://lighthousesoccerclub.org/game/majors-men-united-mcwilliams-19/
END:VEVENT
BEGIN:VEVENT
DTSTART;TZID=America/New_York:20180617T000000
DTEND;TZID=America/New_York:20180617T000000
DTSTAMP:20260424T152801
CREATED:20180329T214057Z
LAST-MODIFIED:20180329T214057Z
UID:2116-1529193600-1529193600@lighthousesoccerclub.org
SUMMARY:Majors-Men-United-McWilliams
DESCRIPTION:
URL:https://lighthousesoccerclub.org/game/majors-men-united-mcwilliams-12/
END:VEVENT
BEGIN:VEVENT
DTSTART;TZID=America/New_York:20180603T150000
DTEND;TZID=America/New_York:20180603T150000
DTSTAMP:20260424T152801
CREATED:20180329T215446Z
LAST-MODIFIED:20180329T215446Z
UID:2208-1528038000-1528038000@lighthousesoccerclub.org
SUMMARY:ICSL-U14B-Rage-Eric G.
DESCRIPTION:
URL:https://lighthousesoccerclub.org/game/icsl-u14b-rage-eric-g-8/
END:VEVENT
BEGIN:VEVENT
DTSTART;TZID=America/New_York:20180603T143000
DTEND;TZID=America/New_York:20180603T143000
DTSTAMP:20260424T152801
CREATED:20180329T215446Z
LAST-MODIFIED:20180329T215446Z
UID:2207-1528036200-1528036200@lighthousesoccerclub.org
SUMMARY:Majors-Men-United-McWilliams
DESCRIPTION:
URL:https://lighthousesoccerclub.org/game/majors-men-united-mcwilliams-18/
END:VEVENT
BEGIN:VEVENT
DTSTART;TZID=America/New_York:20180603T140000
DTEND;TZID=America/New_York:20180603T140000
DTSTAMP:20260424T152801
CREATED:20180329T215446Z
LAST-MODIFIED:20180329T215446Z
UID:2205-1528034400-1528034400@lighthousesoccerclub.org
SUMMARY:Rock-U17B-Blues-J.O'Neill
DESCRIPTION:
URL:https://lighthousesoccerclub.org/game/rock-u17b-blues-j-oneill-8/
END:VEVENT
BEGIN:VEVENT
DTSTART;TZID=America/New_York:20180603T140000
DTEND;TZID=America/New_York:20180603T140000
DTSTAMP:20260424T152801
CREATED:20180329T215446Z
LAST-MODIFIED:20180329T215446Z
UID:2206-1528034400-1528034400@lighthousesoccerclub.org
SUMMARY:Rock-U18B-Azzurri-Chuck
DESCRIPTION:
URL:https://lighthousesoccerclub.org/game/rock-u18b-azzurri-chuck-6/
END:VEVENT
BEGIN:VEVENT
DTSTART;TZID=America/New_York:20180603T135000
DTEND;TZID=America/New_York:20180603T135000
DTSTAMP:20260424T152801
CREATED:20180329T215445Z
LAST-MODIFIED:20180329T215445Z
UID:2204-1528033800-1528033800@lighthousesoccerclub.org
SUMMARY:ICSL-U12B-United
DESCRIPTION:
URL:https://lighthousesoccerclub.org/game/icsl-u12b-united-6/
END:VEVENT
BEGIN:VEVENT
DTSTART;TZID=America/New_York:20180603T130000
DTEND;TZID=America/New_York:20180603T130000
DTSTAMP:20260424T152801
CREATED:20180329T215444Z
LAST-MODIFIED:20180329T215444Z
UID:2201-1528030800-1528030800@lighthousesoccerclub.org
SUMMARY:EDP-U16B-O'Neill/McCollick
DESCRIPTION:
URL:https://lighthousesoccerclub.org/game/edp-u16b-oneill-mccollick-8/
END:VEVENT
BEGIN:VEVENT
DTSTART;TZID=America/New_York:20180603T130000
DTEND;TZID=America/New_York:20180603T130000
DTSTAMP:20260424T152801
CREATED:20180329T215444Z
LAST-MODIFIED:20180329T215444Z
UID:2202-1528030800-1528030800@lighthousesoccerclub.org
SUMMARY:EDP-U13B-Cyclones-Monaco/McCusker
DESCRIPTION:
URL:https://lighthousesoccerclub.org/game/edp-u13b-cyclones-monaco-mccusker-8/
END:VEVENT
BEGIN:VEVENT
DTSTART;TZID=America/New_York:20180603T130000
DTEND;TZID=America/New_York:20180603T130000
DTSTAMP:20260424T152801
CREATED:20180329T215444Z
LAST-MODIFIED:20180329T215444Z
UID:2203-1528030800-1528030800@lighthousesoccerclub.org
SUMMARY:Rock-U10G-Black&BluesG.O'Neill
DESCRIPTION:
URL:https://lighthousesoccerclub.org/game/rock-u10g-blackbluesg-oneill-6/
END:VEVENT
BEGIN:VEVENT
DTSTART;TZID=America/New_York:20180603T123000
DTEND;TZID=America/New_York:20180603T123000
DTSTAMP:20260424T152801
CREATED:20180329T215444Z
LAST-MODIFIED:20180329T215444Z
UID:2200-1528029000-1528029000@lighthousesoccerclub.org
SUMMARY:ICSL-U11B-Chaos-Tom Kelly
DESCRIPTION:
URL:https://lighthousesoccerclub.org/game/icsl-u11b-chaos-tom-kelly-8/
END:VEVENT
BEGIN:VEVENT
DTSTART;TZID=America/New_York:20180603T120000
DTEND;TZID=America/New_York:20180603T120000
DTSTAMP:20260424T152801
CREATED:20180329T215443Z
LAST-MODIFIED:20180329T215443Z
UID:2199-1528027200-1528027200@lighthousesoccerclub.org
SUMMARY:Rock-U9B-Gunners-JohnTonkin
DESCRIPTION:
URL:https://lighthousesoccerclub.org/game/rock-u9b-gunners-johntonkin-8/
END:VEVENT
BEGIN:VEVENT
DTSTART;TZID=America/New_York:20180603T000000
DTEND;TZID=America/New_York:20180603T000000
DTSTAMP:20260424T152801
CREATED:20180329T214057Z
LAST-MODIFIED:20180329T214057Z
UID:2114-1527984000-1527984000@lighthousesoccerclub.org
SUMMARY:Majors-Men-United-McWilliams
DESCRIPTION:
URL:https://lighthousesoccerclub.org/game/majors-men-united-mcwilliams-11/
END:VEVENT
BEGIN:VEVENT
DTSTART;TZID=America/New_York:20180603T000000
DTEND;TZID=America/New_York:20180603T000000
DTSTAMP:20260424T152801
CREATED:20180329T214057Z
LAST-MODIFIED:20180329T214057Z
UID:2115-1527984000-1527984000@lighthousesoccerclub.org
SUMMARY:ICSL-U14B-Rage-Eric G.
DESCRIPTION:
URL:https://lighthousesoccerclub.org/game/icsl-u14b-rage-eric-g-4/
END:VEVENT
BEGIN:VEVENT
DTSTART;TZID=America/New_York:20180603T000000
DTEND;TZID=America/New_York:20180603T000000
DTSTAMP:20260424T152801
CREATED:20180329T214057Z
LAST-MODIFIED:20180329T214057Z
UID:2113-1527984000-1527984000@lighthousesoccerclub.org
SUMMARY:Rock-U18B-Azzurri-Chuck
DESCRIPTION:
URL:https://lighthousesoccerclub.org/game/rock-u18b-azzurri-chuck-3/
END:VEVENT
BEGIN:VEVENT
DTSTART;TZID=America/New_York:20180603T000000
DTEND;TZID=America/New_York:20180603T000000
DTSTAMP:20260424T152801
CREATED:20180329T214056Z
LAST-MODIFIED:20180329T214056Z
UID:2108-1527984000-1527984000@lighthousesoccerclub.org
SUMMARY:EDP-U16B-O'Neill/McCollick
DESCRIPTION:
URL:https://lighthousesoccerclub.org/game/edp-u16b-oneill-mccollick-4/
END:VEVENT
BEGIN:VEVENT
DTSTART;TZID=America/New_York:20180603T000000
DTEND;TZID=America/New_York:20180603T000000
DTSTAMP:20260424T152801
CREATED:20180329T214056Z
LAST-MODIFIED:20180329T214056Z
UID:2109-1527984000-1527984000@lighthousesoccerclub.org
SUMMARY:EDP-U13B-Cyclones-Monaco/McCusker
DESCRIPTION:
URL:https://lighthousesoccerclub.org/game/edp-u13b-cyclones-monaco-mccusker-4/
END:VEVENT
BEGIN:VEVENT
DTSTART;TZID=America/New_York:20180603T000000
DTEND;TZID=America/New_York:20180603T000000
DTSTAMP:20260424T152801
CREATED:20180329T214056Z
LAST-MODIFIED:20180329T214056Z
UID:2110-1527984000-1527984000@lighthousesoccerclub.org
SUMMARY:Rock-U10G-Black&BluesG.O'Neill
DESCRIPTION:
URL:https://lighthousesoccerclub.org/game/rock-u10g-blackbluesg-oneill-3/
END:VEVENT
BEGIN:VEVENT
DTSTART;TZID=America/New_York:20180603T000000
DTEND;TZID=America/New_York:20180603T000000
DTSTAMP:20260424T152801
CREATED:20180329T214056Z
LAST-MODIFIED:20180329T214056Z
UID:2111-1527984000-1527984000@lighthousesoccerclub.org
SUMMARY:ICSL-U12B-United
DESCRIPTION:
URL:https://lighthousesoccerclub.org/game/icsl-u12b-united-3/
END:VEVENT
BEGIN:VEVENT
DTSTART;TZID=America/New_York:20180603T000000
DTEND;TZID=America/New_York:20180603T000000
DTSTAMP:20260424T152801
CREATED:20180329T214056Z
LAST-MODIFIED:20180329T214056Z
UID:2112-1527984000-1527984000@lighthousesoccerclub.org
SUMMARY:Rock-U17B-Blues-J.O'Neill
DESCRIPTION:
URL:https://lighthousesoccerclub.org/game/rock-u17b-blues-j-oneill-4/
END:VEVENT
BEGIN:VEVENT
DTSTART;TZID=America/New_York:20180603T000000
DTEND;TZID=America/New_York:20180603T000000
DTSTAMP:20260424T152801
CREATED:20180329T214055Z
LAST-MODIFIED:20180329T214055Z
UID:2106-1527984000-1527984000@lighthousesoccerclub.org
SUMMARY:Rock-U9B-Gunners-JohnTonkin
DESCRIPTION:
URL:https://lighthousesoccerclub.org/game/rock-u9b-gunners-johntonkin-4/
END:VEVENT
BEGIN:VEVENT
DTSTART;TZID=America/New_York:20180603T000000
DTEND;TZID=America/New_York:20180603T000000
DTSTAMP:20260424T152801
CREATED:20180329T214055Z
LAST-MODIFIED:20180329T214055Z
UID:2107-1527984000-1527984000@lighthousesoccerclub.org
SUMMARY:ICSL-U11B-Chaos-Tom Kelly
DESCRIPTION:
URL:https://lighthousesoccerclub.org/game/icsl-u11b-chaos-tom-kelly-4/
END:VEVENT
BEGIN:VEVENT
DTSTART;TZID=America/New_York:20180520T143000
DTEND;TZID=America/New_York:20180520T143000
DTSTAMP:20260424T152801
CREATED:20180329T215443Z
LAST-MODIFIED:20180329T215443Z
UID:2198-1526826600-1526826600@lighthousesoccerclub.org
SUMMARY:Majors-Men-United-McWilliams
DESCRIPTION:
URL:https://lighthousesoccerclub.org/game/majors-men-united-mcwilliams-17/
END:VEVENT
BEGIN:VEVENT
DTSTART;TZID=America/New_York:20180520T140000
DTEND;TZID=America/New_York:20180520T140000
DTSTAMP:20260424T152801
CREATED:20180329T215443Z
LAST-MODIFIED:20180329T215443Z
UID:2195-1526824800-1526824800@lighthousesoccerclub.org
SUMMARY:Rock-U11G-SkyBlues-G.O'Neill
DESCRIPTION:
URL:https://lighthousesoccerclub.org/game/rock-u11g-skyblues-g-oneill-6/
END:VEVENT
BEGIN:VEVENT
DTSTART;TZID=America/New_York:20180520T140000
DTEND;TZID=America/New_York:20180520T140000
DTSTAMP:20260424T152801
CREATED:20180329T215443Z
LAST-MODIFIED:20180329T215443Z
UID:2196-1526824800-1526824800@lighthousesoccerclub.org
SUMMARY:Rock-U13G-Fusion-Joe Stanley
DESCRIPTION:
URL:https://lighthousesoccerclub.org/game/rock-u13g-fusion-joe-stanley-6/
END:VEVENT
BEGIN:VEVENT
DTSTART;TZID=America/New_York:20180520T140000
DTEND;TZID=America/New_York:20180520T140000
DTSTAMP:20260424T152801
CREATED:20180329T215443Z
LAST-MODIFIED:20180329T215443Z
UID:2197-1526824800-1526824800@lighthousesoccerclub.org
SUMMARY:Rock-U17B-Blues-J.O'Neill
DESCRIPTION:
URL:https://lighthousesoccerclub.org/game/rock-u17b-blues-j-oneill-7/
END:VEVENT
BEGIN:VEVENT
DTSTART;TZID=America/New_York:20180520T130000
DTEND;TZID=America/New_York:20180520T130000
DTSTAMP:20260424T152801
CREATED:20180329T215441Z
LAST-MODIFIED:20180329T215441Z
UID:2194-1526821200-1526821200@lighthousesoccerclub.org
SUMMARY:Rock-U9G-Blue Rage-JimLydon
DESCRIPTION:
URL:https://lighthousesoccerclub.org/game/rock-u9g-blue-rage-jimlydon-8/
END:VEVENT
BEGIN:VEVENT
DTSTART;TZID=America/New_York:20180520T123000
DTEND;TZID=America/New_York:20180520T123000
DTSTAMP:20260424T152801
CREATED:20180329T215441Z
LAST-MODIFIED:20180329T215441Z
UID:2193-1526819400-1526819400@lighthousesoccerclub.org
SUMMARY:ICSL-U11B-Chaos-Tom Kelly
DESCRIPTION:
URL:https://lighthousesoccerclub.org/game/icsl-u11b-chaos-tom-kelly-7/
END:VEVENT
BEGIN:VEVENT
DTSTART;TZID=America/New_York:20180520T120000
DTEND;TZID=America/New_York:20180520T120000
DTSTAMP:20260424T152801
CREATED:20180329T215441Z
LAST-MODIFIED:20180329T215441Z
UID:2192-1526817600-1526817600@lighthousesoccerclub.org
SUMMARY:Rock-U9B-Gunners-JohnTonkin
DESCRIPTION:
URL:https://lighthousesoccerclub.org/game/rock-u9b-gunners-johntonkin-7/
END:VEVENT
BEGIN:VEVENT
DTSTART;TZID=America/New_York:20180520T000000
DTEND;TZID=America/New_York:20180520T000000
DTSTAMP:20260424T152801
CREATED:20180329T214055Z
LAST-MODIFIED:20180329T214055Z
UID:2103-1526774400-1526774400@lighthousesoccerclub.org
SUMMARY:Rock-U13G-Fusion-Joe Stanley
DESCRIPTION:
URL:https://lighthousesoccerclub.org/game/rock-u13g-fusion-joe-stanley-3/
END:VEVENT
END:VCALENDAR