BEGIN:VCALENDAR
VERSION:2.0
PRODID:-//Lighthouse Soccer Club - ECPv6.15.20//NONSGML v1.0//EN
CALSCALE:GREGORIAN
METHOD:PUBLISH
X-ORIGINAL-URL:https://lighthousesoccerclub.org
X-WR-CALDESC:Events for Lighthouse Soccer Club
REFRESH-INTERVAL;VALUE=DURATION:PT1H
X-Robots-Tag:noindex
X-PUBLISHED-TTL:PT1H
BEGIN:VTIMEZONE
TZID:America/New_York
BEGIN:DAYLIGHT
TZOFFSETFROM:-0500
TZOFFSETTO:-0400
TZNAME:EDT
DTSTART:20170312T070000
END:DAYLIGHT
BEGIN:STANDARD
TZOFFSETFROM:-0400
TZOFFSETTO:-0500
TZNAME:EST
DTSTART:20171105T060000
END:STANDARD
BEGIN:DAYLIGHT
TZOFFSETFROM:-0500
TZOFFSETTO:-0400
TZNAME:EDT
DTSTART:20180311T070000
END:DAYLIGHT
BEGIN:STANDARD
TZOFFSETFROM:-0400
TZOFFSETTO:-0500
TZNAME:EST
DTSTART:20181104T060000
END:STANDARD
BEGIN:DAYLIGHT
TZOFFSETFROM:-0500
TZOFFSETTO:-0400
TZNAME:EDT
DTSTART:20190310T070000
END:DAYLIGHT
BEGIN:STANDARD
TZOFFSETFROM:-0400
TZOFFSETTO:-0500
TZNAME:EST
DTSTART:20191103T060000
END:STANDARD
END:VTIMEZONE
BEGIN:VEVENT
DTSTART;TZID=America/New_York:20180506T151500
DTEND;TZID=America/New_York:20180506T151500
DTSTAMP:20260424T215321
CREATED:20180329T215440Z
LAST-MODIFIED:20180329T215440Z
UID:2189-1525619700-1525619700@lighthousesoccerclub.org
SUMMARY:Rock-U12G-LadyBlues-J.O'Neill
DESCRIPTION:
URL:https://lighthousesoccerclub.org/game/rock-u12g-ladyblues-j-oneill-8/
END:VEVENT
BEGIN:VEVENT
DTSTART;TZID=America/New_York:20180506T143000
DTEND;TZID=America/New_York:20180506T143000
DTSTAMP:20260424T215321
CREATED:20180329T215440Z
LAST-MODIFIED:20180329T215440Z
UID:2188-1525617000-1525617000@lighthousesoccerclub.org
SUMMARY:Majors-Men-United-McWilliams
DESCRIPTION:
URL:https://lighthousesoccerclub.org/game/majors-men-united-mcwilliams-16/
END:VEVENT
BEGIN:VEVENT
DTSTART;TZID=America/New_York:20180506T140000
DTEND;TZID=America/New_York:20180506T140000
DTSTAMP:20260424T215321
CREATED:20180329T215440Z
LAST-MODIFIED:20180329T215440Z
UID:2187-1525615200-1525615200@lighthousesoccerclub.org
SUMMARY:Rock-U13G-Crunch-BillTonkin
DESCRIPTION:
URL:https://lighthousesoccerclub.org/game/rock-u13g-crunch-billtonkin-6/
END:VEVENT
BEGIN:VEVENT
DTSTART;TZID=America/New_York:20180506T140000
DTEND;TZID=America/New_York:20180506T140000
DTSTAMP:20260424T215321
CREATED:20180329T215440Z
LAST-MODIFIED:20180329T215440Z
UID:2186-1525615200-1525615200@lighthousesoccerclub.org
SUMMARY:Rock-U11G-SkyBlues-G.O'Neill
DESCRIPTION:
URL:https://lighthousesoccerclub.org/game/rock-u11g-skyblues-g-oneill-5/
END:VEVENT
BEGIN:VEVENT
DTSTART;TZID=America/New_York:20180506T123000
DTEND;TZID=America/New_York:20180506T123000
DTSTAMP:20260424T215321
CREATED:20180329T215440Z
LAST-MODIFIED:20180329T215440Z
UID:2185-1525609800-1525609800@lighthousesoccerclub.org
SUMMARY:ICSL-U11B-Chaos-Tom Kelly
DESCRIPTION:
URL:https://lighthousesoccerclub.org/game/icsl-u11b-chaos-tom-kelly-6/
END:VEVENT
BEGIN:VEVENT
DTSTART;TZID=America/New_York:20180506T123000
DTEND;TZID=America/New_York:20180506T123000
DTSTAMP:20260424T215321
CREATED:20180329T215437Z
LAST-MODIFIED:20180329T215437Z
UID:2184-1525609800-1525609800@lighthousesoccerclub.org
SUMMARY:EDP-U17B-Attack-Colfer
DESCRIPTION:
URL:https://lighthousesoccerclub.org/game/edp-u17b-attack-colfer-11/
END:VEVENT
BEGIN:VEVENT
DTSTART;TZID=America/New_York:20180506T120000
DTEND;TZID=America/New_York:20180506T120000
DTSTAMP:20260424T215321
CREATED:20180329T215437Z
LAST-MODIFIED:20180329T215437Z
UID:2183-1525608000-1525608000@lighthousesoccerclub.org
SUMMARY:Rock-U10G-Black&BluesG.O'Neill
DESCRIPTION:
URL:https://lighthousesoccerclub.org/game/rock-u10g-blackbluesg-oneill-5/
END:VEVENT
BEGIN:VEVENT
DTSTART;TZID=America/New_York:20180506T000000
DTEND;TZID=America/New_York:20180506T000000
DTSTAMP:20260424T215321
CREATED:20180329T214043Z
LAST-MODIFIED:20180329T214043Z
UID:2093-1525564800-1525564800@lighthousesoccerclub.org
SUMMARY:Rock-U11G-SkyBlues-G.O'Neill
DESCRIPTION:
URL:https://lighthousesoccerclub.org/game/rock-u11g-skyblues-g-oneill-2/
END:VEVENT
BEGIN:VEVENT
DTSTART;TZID=America/New_York:20180506T000000
DTEND;TZID=America/New_York:20180506T000000
DTSTAMP:20260424T215321
CREATED:20180329T214043Z
LAST-MODIFIED:20180329T214043Z
UID:2094-1525564800-1525564800@lighthousesoccerclub.org
SUMMARY:Rock-U13G-Crunch-BillTonkin
DESCRIPTION:
URL:https://lighthousesoccerclub.org/game/rock-u13g-crunch-billtonkin-3/
END:VEVENT
BEGIN:VEVENT
DTSTART;TZID=America/New_York:20180506T000000
DTEND;TZID=America/New_York:20180506T000000
DTSTAMP:20260424T215321
CREATED:20180329T214043Z
LAST-MODIFIED:20180329T214043Z
UID:2095-1525564800-1525564800@lighthousesoccerclub.org
SUMMARY:Majors-Men-United-McWilliams
DESCRIPTION:
URL:https://lighthousesoccerclub.org/game/majors-men-united-mcwilliams-9/
END:VEVENT
BEGIN:VEVENT
DTSTART;TZID=America/New_York:20180506T000000
DTEND;TZID=America/New_York:20180506T000000
DTSTAMP:20260424T215321
CREATED:20180329T214043Z
LAST-MODIFIED:20180329T214043Z
UID:2096-1525564800-1525564800@lighthousesoccerclub.org
SUMMARY:Rock-U12G-LadyBlues-J.O'Neill
DESCRIPTION:
URL:https://lighthousesoccerclub.org/game/rock-u12g-ladyblues-j-oneill-4/
END:VEVENT
BEGIN:VEVENT
DTSTART;TZID=America/New_York:20180506T000000
DTEND;TZID=America/New_York:20180506T000000
DTSTAMP:20260424T215321
CREATED:20180329T214041Z
LAST-MODIFIED:20180329T214041Z
UID:2090-1525564800-1525564800@lighthousesoccerclub.org
SUMMARY:Rock-U10G-Black&BluesG.O'Neill
DESCRIPTION:
URL:https://lighthousesoccerclub.org/game/rock-u10g-blackbluesg-oneill-2/
END:VEVENT
BEGIN:VEVENT
DTSTART;TZID=America/New_York:20180506T000000
DTEND;TZID=America/New_York:20180506T000000
DTSTAMP:20260424T215321
CREATED:20180329T214041Z
LAST-MODIFIED:20180329T214041Z
UID:2091-1525564800-1525564800@lighthousesoccerclub.org
SUMMARY:EDP-U17B-Attack-Colfer
DESCRIPTION:
URL:https://lighthousesoccerclub.org/game/edp-u17b-attack-colfer-5/
END:VEVENT
BEGIN:VEVENT
DTSTART;TZID=America/New_York:20180506T000000
DTEND;TZID=America/New_York:20180506T000000
DTSTAMP:20260424T215321
CREATED:20180329T214041Z
LAST-MODIFIED:20180329T214041Z
UID:2092-1525564800-1525564800@lighthousesoccerclub.org
SUMMARY:ICSL-U11B-Chaos-Tom Kelly
DESCRIPTION:
URL:https://lighthousesoccerclub.org/game/icsl-u11b-chaos-tom-kelly-2/
END:VEVENT
BEGIN:VEVENT
DTSTART;TZID=America/New_York:20180429T140000
DTEND;TZID=America/New_York:20180429T140000
DTSTAMP:20260424T215321
CREATED:20180329T215437Z
LAST-MODIFIED:20180329T215437Z
UID:2182-1525010400-1525010400@lighthousesoccerclub.org
SUMMARY:Rock-U13G-Fusion-Joe Stanley
DESCRIPTION:
URL:https://lighthousesoccerclub.org/game/rock-u13g-fusion-joe-stanley-5/
END:VEVENT
BEGIN:VEVENT
DTSTART;TZID=America/New_York:20180429T120000
DTEND;TZID=America/New_York:20180429T120000
DTSTAMP:20260424T215321
CREATED:20180329T215437Z
LAST-MODIFIED:20180329T215437Z
UID:2180-1525003200-1525003200@lighthousesoccerclub.org
SUMMARY:EDP-U15B-Rangers-Westervelt
DESCRIPTION:
URL:https://lighthousesoccerclub.org/game/edp-u15b-rangers-westervelt-11/
END:VEVENT
BEGIN:VEVENT
DTSTART;TZID=America/New_York:20180429T120000
DTEND;TZID=America/New_York:20180429T120000
DTSTAMP:20260424T215321
CREATED:20180329T215437Z
LAST-MODIFIED:20180329T215437Z
UID:2181-1525003200-1525003200@lighthousesoccerclub.org
SUMMARY:Rock-U9G-Blue Rage-JimLydon
DESCRIPTION:
URL:https://lighthousesoccerclub.org/game/rock-u9g-blue-rage-jimlydon-7/
END:VEVENT
BEGIN:VEVENT
DTSTART;TZID=America/New_York:20180429T000000
DTEND;TZID=America/New_York:20180429T000000
DTSTAMP:20260424T215321
CREATED:20180329T214041Z
LAST-MODIFIED:20180329T214041Z
UID:2088-1524960000-1524960000@lighthousesoccerclub.org
SUMMARY:Rock-U9G-Blue Rage-JimLydon
DESCRIPTION:
URL:https://lighthousesoccerclub.org/game/rock-u9g-blue-rage-jimlydon-3/
END:VEVENT
BEGIN:VEVENT
DTSTART;TZID=America/New_York:20180429T000000
DTEND;TZID=America/New_York:20180429T000000
DTSTAMP:20260424T215321
CREATED:20180329T214041Z
LAST-MODIFIED:20180329T214041Z
UID:2089-1524960000-1524960000@lighthousesoccerclub.org
SUMMARY:Rock-U13G-Fusion-Joe Stanley
DESCRIPTION:
URL:https://lighthousesoccerclub.org/game/rock-u13g-fusion-joe-stanley-2/
END:VEVENT
BEGIN:VEVENT
DTSTART;TZID=America/New_York:20180429T000000
DTEND;TZID=America/New_York:20180429T000000
DTSTAMP:20260424T215321
CREATED:20180329T214039Z
LAST-MODIFIED:20180329T214039Z
UID:2087-1524960000-1524960000@lighthousesoccerclub.org
SUMMARY:EDP-U15B-Rangers-Westervelt
DESCRIPTION:
URL:https://lighthousesoccerclub.org/game/edp-u15b-rangers-westervelt-6/
END:VEVENT
BEGIN:VEVENT
DTSTART;TZID=America/New_York:20180428T110000
DTEND;TZID=America/New_York:20180428T110000
DTSTAMP:20260424T215321
CREATED:20180329T215436Z
LAST-MODIFIED:20180329T215436Z
UID:2179-1524913200-1524913200@lighthousesoccerclub.org
SUMMARY:EDP-U12G-Fishtown-Joe Stanley
DESCRIPTION:
URL:https://lighthousesoccerclub.org/game/edp-u12g-fishtown-joe-stanley-8/
END:VEVENT
BEGIN:VEVENT
DTSTART;TZID=America/New_York:20180428T110000
DTEND;TZID=America/New_York:20180428T110000
DTSTAMP:20260424T215321
CREATED:20180329T215436Z
LAST-MODIFIED:20180329T215436Z
UID:2178-1524913200-1524913200@lighthousesoccerclub.org
SUMMARY:EDP-U13B-Cyclones-Monaco/McCusker
DESCRIPTION:
URL:https://lighthousesoccerclub.org/game/edp-u13b-cyclones-monaco-mccusker-7/
END:VEVENT
BEGIN:VEVENT
DTSTART;TZID=America/New_York:20180428T000000
DTEND;TZID=America/New_York:20180428T000000
DTSTAMP:20260424T215321
CREATED:20180329T214039Z
LAST-MODIFIED:20180329T214039Z
UID:2085-1524873600-1524873600@lighthousesoccerclub.org
SUMMARY:EDP-U13B-Cyclones-Monaco/McCusker
DESCRIPTION:
URL:https://lighthousesoccerclub.org/game/edp-u13b-cyclones-monaco-mccusker-3/
END:VEVENT
BEGIN:VEVENT
DTSTART;TZID=America/New_York:20180428T000000
DTEND;TZID=America/New_York:20180428T000000
DTSTAMP:20260424T215321
CREATED:20180329T214039Z
LAST-MODIFIED:20180329T214039Z
UID:2086-1524873600-1524873600@lighthousesoccerclub.org
SUMMARY:EDP-U12G-Fishtown-Joe Stanley
DESCRIPTION:
URL:https://lighthousesoccerclub.org/game/edp-u12g-fishtown-joe-stanley-4/
END:VEVENT
BEGIN:VEVENT
DTSTART;TZID=America/New_York:20180422T151500
DTEND;TZID=America/New_York:20180422T151500
DTSTAMP:20260424T215321
CREATED:20180329T215436Z
LAST-MODIFIED:20180329T215436Z
UID:2177-1524410100-1524410100@lighthousesoccerclub.org
SUMMARY:Rock-U12G-LadyBlues-J.O'Neill
DESCRIPTION:
URL:https://lighthousesoccerclub.org/game/rock-u12g-ladyblues-j-oneill-7/
END:VEVENT
BEGIN:VEVENT
DTSTART;TZID=America/New_York:20180422T150000
DTEND;TZID=America/New_York:20180422T150000
DTSTAMP:20260424T215321
CREATED:20180329T215436Z
LAST-MODIFIED:20180329T215436Z
UID:2176-1524409200-1524409200@lighthousesoccerclub.org
SUMMARY:ICSL-U14B-Rage-Eric G.
DESCRIPTION:
URL:https://lighthousesoccerclub.org/game/icsl-u14b-rage-eric-g-7/
END:VEVENT
BEGIN:VEVENT
DTSTART;TZID=America/New_York:20180422T140000
DTEND;TZID=America/New_York:20180422T140000
DTSTAMP:20260424T215321
CREATED:20180329T215436Z
LAST-MODIFIED:20180329T215436Z
UID:2175-1524405600-1524405600@lighthousesoccerclub.org
SUMMARY:Rock-U11G-SkyBlues-G.O'Neill
DESCRIPTION:
URL:https://lighthousesoccerclub.org/game/rock-u11g-skyblues-g-oneill-4/
END:VEVENT
BEGIN:VEVENT
DTSTART;TZID=America/New_York:20180422T140000
DTEND;TZID=America/New_York:20180422T140000
DTSTAMP:20260424T215321
CREATED:20180329T215434Z
LAST-MODIFIED:20180329T215434Z
UID:2174-1524405600-1524405600@lighthousesoccerclub.org
SUMMARY:EDP-U17B-Attack-Colfer
DESCRIPTION:
URL:https://lighthousesoccerclub.org/game/edp-u17b-attack-colfer-10/
END:VEVENT
BEGIN:VEVENT
DTSTART;TZID=America/New_York:20180422T120000
DTEND;TZID=America/New_York:20180422T120000
DTSTAMP:20260424T215321
CREATED:20180329T215434Z
LAST-MODIFIED:20180329T215434Z
UID:2173-1524398400-1524398400@lighthousesoccerclub.org
SUMMARY:Rock-U10G-Black&BluesG.O'Neill
DESCRIPTION:
URL:https://lighthousesoccerclub.org/game/rock-u10g-blackbluesg-oneill-4/
END:VEVENT
BEGIN:VEVENT
DTSTART;TZID=America/New_York:20180422T111500
DTEND;TZID=America/New_York:20180422T111500
DTSTAMP:20260424T215321
CREATED:20180329T215434Z
LAST-MODIFIED:20180329T215434Z
UID:2172-1524395700-1524395700@lighthousesoccerclub.org
SUMMARY:EDP-U12G-Fishtown-Joe Stanley
DESCRIPTION:
URL:https://lighthousesoccerclub.org/game/edp-u12g-fishtown-joe-stanley-7/
END:VEVENT
END:VCALENDAR